{"text_format":"1","workbook":"xlsx","n_sheets":2,"sheets":["DOMESTIC DEMAND","VALUES2"],"not_rendered":{"charts":0,"images":0,"macros":1,"external_links":0,"defined_names":2,"comments":0,"pivot_tables":0},"unopened":[],"bounds":{"document_bytes":16777216,"sheet_cells":100000,"rows_first":2000,"rows_last":500,"rows_between":2000,"halvings":0,"cell_chars":16384,"cell_head_chars":4096},"cells_cut":0,"cells_raw":0,"read":"whole","date_system":"1900"}

{"sheet":"DOMESTIC DEMAND","index":0,"n_rows":41,"n_cols":7,"rows_kept":41,"cut":false,"hidden":false,"merged":[[40,0,40,6],[39,0,39,6],[38,0,38,6],[0,0,0,6],[1,0,1,6],[36,0,36,6],[37,0,37,6],[4,1,4,6],[2,1,2,6],[3,1,3,6]]}
["RESIDENTIAL METER SIZING WORKSHEET ONLY"]
["(REFERENCE UPC 2012 APPENDIX A, TABLE 2.1 AND APPENDIX C, TABLE C 4.1, WSFU, Flush Tanks)"]
["Project Name:"]
["LVVWD Project Number: "]
["Calculations herein are for floor plan/model: "]
[]
[]
["GROUPED FIXTURES"]
["BATHROOM GROUPS1 AND 2",null,"FIXTURE UNITS COLD",null,"QUANTITIES",null,"TOTAL"]
["CLICK HERE TO SELECT A BATHROOM GROUP:",null,{"$f":"IF(A10=\"CLICK HERE TO SELECT A BATHROOM GROUP:\",0,IF(A10=\"Half Bath or Powder Room\",3.5,IF(A10=\"1 Bathroom Group\",5,IF(A10=\"1-1/2 Bathrooms\",6,IF(A10=\"2 Bathrooms\",7,IF(A10=\"2-1/2 Bathrooms\",8,IF(A10=\"3 Bathrooms\",9)))))))","v":0},null,1,null,{"$f":"C10*E10","v":0}]
["AND Each Additional 1/2 Bath",null,0.5,null,null,null,0]
["AND Each Additional Bathroom Group",null,1,null,null,null,0]
["AND Each Bidet",null,1,null,null,null,0]
["AND Each Shower (if Bath has separate tub & shower)",null,2,null,null,null,0]
["Kitchen Group (Sink and Dishwasher) 3",null,2,null,null,null,0]
["Laundry Group (Sink and Clothes Washer) 3",null,5,null,null,null,0]
[]
["ADDITIONAL FIXTURES NOT GROUPED"]
["Wet Bar/Bar Sink",null,1,null,null,null,{"$f":"C19*E19","v":0}]
["Kitchen Sink",null,1.5,null,null,null,{"$f":"C20*E20","v":0}]
["Laundry Sink",null,1.5,null,null,null,0]
["Service/Mop Sink",null,1.5,null,null,null,0]
["Diswasher",null,1.5,null,null,null,0]
["Urinal",null,2,null,null,null,0]
["Clothes Washer",null,4,null,null,null,0]
["Hose Bibb",null,2.5,null,null,null,{"$f":"C26*E26","v":0}]
["Each Additional Hose Bibb",null,1,null,null,null,{"$f":"C27*E27","v":0}]
[]
["TOTAL FIXTURE UNITS",null,null,null,null,null,{"$f":"SUM(G10:G16,G19:G27)","v":0}]
[]
["DOMESTIC DEMAND (FIXTURE UNITS TO GPM CONVERSION)",null,null,null,null,null,{"$f":"SUM(VALUES2!C2:C379)","v":0}]
[]
["METER SIZE4",null,null,null,null,null,{"$f":"IF(G31<21,\"3/4 inch\",IF(G31<=35,\"1 inch\", IF(G31<=70,\"1.5 inch\",IF(G31<=112,\"2 inch\"))))","v":"3/4 inch"}]
[]
[]
["NOTES:"]
["1. Bathroom Groups having 1.6 GPF Gravity-Tank Water Closets.  One bathroom group, for the purposes of this worksheet, consists of one water closet, up to two lavatories, and either one bathtub or one shower."]
["2. A half-bath or powder room, for the pursoses of this worksheet, consists of one water closet and one lavatory. "]
["3. The District will only account for one Kitchen and Laundry Group for a Single Family.  Additional Kichenettes and Stackable washers will be accounted for separately as non-grouped fixtures.  "]
["4. LVVWD requires a minimum 3/4\" meter for Domestic Services. This tool calculates the domestic demand at 70% of the maximum flow for each meter capacity, allowing the rest for irrigation. "]
["5. If Residential Fire Sprinklers are required to be served by the domestic meter, the maximum allowable flow of the meter will be allowed for a fire event only. "]

{"sheet":"VALUES2","index":1,"n_rows":379,"n_cols":9,"rows_kept":379,"cut":false,"hidden":true,"merged":[]}
["FLOW (GPM)","FIXTURE UNITS (Flush Tank)"]
[0,0,{"$f":"IF(+'DOMESTIC DEMAND'!$G$29=B2,A2,)","v":0}]
[1,0.5,{"$f":"IF(+'DOMESTIC DEMAND'!$G$29=B3,A3,)","v":0},null,null,null,null,"CLICK HERE TO SELECT A BATHROOM GROUP:",0]
[2,1,{"$f":"IF(+'DOMESTIC DEMAND'!$G$29=B4,A4,)","v":0},null,null,null,null,"Half Bath or Powder Room",3.5]
[{"$f":"A4+(1/4)","v":2.25},1.5,{"$f":"IF(+'DOMESTIC DEMAND'!$G$29=B5,A5,)","v":0},null,null,null,null,"1 Bathroom Group",5]
[{"$f":"A5+(1/4)","v":2.5},2,{"$f":"IF(+'DOMESTIC DEMAND'!$G$29=B6,A6,)","v":0},null,null,null,null,"1-1/2 Bathrooms",6]
[{"$f":"A6+(1/4)","v":2.75},2.5,{"$f":"IF(+'DOMESTIC DEMAND'!$G$29=B7,A7,)","v":0},null,null,null,null,"2 Bathrooms",7]
[3,3,{"$f":"IF(+'DOMESTIC DEMAND'!$G$29=B8,A8,)","v":0},null,null,null,null,"2-1/2 Bathrooms",8]
[{"$f":"A8+(1/2)","v":3.5},3.5,{"$f":"IF(+'DOMESTIC DEMAND'!$G$29=B9,A9,)","v":0},null,null,null,null,"3 Bathrooms",9]
[4,4,{"$f":"IF(+'DOMESTIC DEMAND'!$G$29=B10,A10,)","v":0}]
[{"$f":"A10+(1/4)","v":4.25},4.5,{"$f":"IF(+'DOMESTIC DEMAND'!$G$29=B11,A11,)","v":0}]
[{"$f":"A11+(1/4)","v":4.5},5,{"$f":"IF(+'DOMESTIC DEMAND'!$G$29=B12,A12,)","v":0}]
[{"$f":"A12+(1/4)","v":4.75},5.5,{"$f":"IF(+'DOMESTIC DEMAND'!$G$29=B13,A13,)","v":0}]
[5,6,{"$f":"IF(+'DOMESTIC DEMAND'!$G$29=B14,A14,)","v":0}]
[{"$f":"A14+(1/2)","v":5.5},6.5,{"$f":"IF(+'DOMESTIC DEMAND'!$G$29=B15,A15,)","v":0}]
[6,7,{"$f":"IF(+'DOMESTIC DEMAND'!$G$29=B16,A16,)","v":0}]
[{"$f":"A16+(1/2)","v":6.5},7.5,{"$f":"IF(+'DOMESTIC DEMAND'!$G$29=B17,A17,)","v":0}]
[7,8,{"$f":"IF(+'DOMESTIC DEMAND'!$G$29=B18,A18,)","v":0}]
[{"$f":"A18+(1/4)","v":7.25},8.5,{"$f":"IF(+'DOMESTIC DEMAND'!$G$29=B19,A19,)","v":0}]
[{"$f":"A19+(1/4)","v":7.5},9,{"$f":"IF(+'DOMESTIC DEMAND'!$G$29=B20,A20,)","v":0}]
[{"$f":"A20+(1/4)","v":7.75},9.5,{"$f":"IF(+'DOMESTIC DEMAND'!$G$29=B21,A21,)","v":0}]
[8,10,{"$f":"IF(+'DOMESTIC DEMAND'!$G$29=B22,A22,)","v":0}]
[{"$f":"A22+(1/4)","v":8.25},10.5,{"$f":"IF(+'DOMESTIC DEMAND'!$G$29=B23,A23,)","v":0}]
[{"$f":"A23+(1/4)","v":8.5},11,{"$f":"IF(+'DOMESTIC DEMAND'!$G$29=B24,A24,)","v":0}]
[{"$f":"A24+(1/4)","v":8.75},11.5,{"$f":"IF(+'DOMESTIC DEMAND'!$G$29=B25,A25,)","v":0}]
[9,12,{"$f":"IF(+'DOMESTIC DEMAND'!$G$29=B26,A26,)","v":0}]
[{"$f":"A26+(1/2)","v":9.5},12.5,{"$f":"IF(+'DOMESTIC DEMAND'!$G$29=B27,A27,)","v":0}]
[10,13,{"$f":"IF(+'DOMESTIC DEMAND'!$G$29=B28,A28,)","v":0}]
[{"$f":"A28+(1/4)","v":10.25},13.5,{"$f":"IF(+'DOMESTIC DEMAND'!$G$29=B29,A29,)","v":0}]
[{"$f":"A29+(1/4)","v":10.5},14,{"$f":"IF(+'DOMESTIC DEMAND'!$G$29=B30,A30,)","v":0}]
[{"$f":"A30+(1/4)","v":10.75},14.5,{"$f":"IF(+'DOMESTIC DEMAND'!$G$29=B31,A31,)","v":0}]
[11,15,{"$f":"IF(+'DOMESTIC DEMAND'!$G$29=B32,A32,)","v":0}]
[{"$f":"A32+(1/2)","v":11.5},15.5,{"$f":"IF(+'DOMESTIC DEMAND'!$G$29=B33,A33,)","v":0}]
[12,16,{"$f":"IF(+'DOMESTIC DEMAND'!$G$29=B34,A34,)","v":0}]
[{"$f":"A34+(1/4)","v":12.25},16.5,{"$f":"IF(+'DOMESTIC DEMAND'!$G$29=B35,A35,)","v":0}]
[{"$f":"A35+(1/4)","v":12.5},17,{"$f":"IF(+'DOMESTIC DEMAND'!$G$29=B36,A36,)","v":0}]
[{"$f":"A36+(1/4)","v":12.75},17.5,{"$f":"IF(+'DOMESTIC DEMAND'!$G$29=B37,A37,)","v":0}]
[13,18,{"$f":"IF(+'DOMESTIC DEMAND'!$G$29=B38,A38,)","v":0}]
[{"$f":"A38+(1/4)","v":13.25},18.5,{"$f":"IF(+'DOMESTIC DEMAND'!$G$29=B39,A39,)","v":0}]
[{"$f":"A39+(1/4)","v":13.5},19,{"$f":"IF(+'DOMESTIC DEMAND'!$G$29=B40,A40,)","v":0}]
[{"$f":"A40+(1/4)","v":13.75},19.5,{"$f":"IF(+'DOMESTIC DEMAND'!$G$29=B41,A41,)","v":0}]
[14,20,{"$f":"IF(+'DOMESTIC DEMAND'!$G$29=B42,A42,)","v":0}]
[{"$f":"A42+(1/2)","v":14.5},20.5,{"$f":"IF(+'DOMESTIC DEMAND'!$G$29=B43,A43,)","v":0}]
[15,21,{"$f":"IF(+'DOMESTIC DEMAND'!$G$29=B44,A44,)","v":0}]
[{"$f":"A44+(1/4)","v":15.25},21.5,{"$f":"IF(+'DOMESTIC DEMAND'!$G$29=B45,A45,)","v":0}]
[{"$f":"A45+(1/4)","v":15.5},22,{"$f":"IF(+'DOMESTIC DEMAND'!$G$29=B46,A46,)","v":0}]
[{"$f":"A46+(1/4)","v":15.75},22.5,{"$f":"IF(+'DOMESTIC DEMAND'!$G$29=B47,A47,)","v":0}]
[16,23,{"$f":"IF(+'DOMESTIC DEMAND'!$G$29=B48,A48,)","v":0}]
[{"$f":"A48+(1/2)","v":16.5},23.5,{"$f":"IF(+'DOMESTIC DEMAND'!$G$29=B49,A49,)","v":0}]
[17,24,{"$f":"IF(+'DOMESTIC DEMAND'!$G$29=B50,A50,)","v":0}]
[{"$f":"A50+(1/4)","v":17.25},24.5,{"$f":"IF(+'DOMESTIC DEMAND'!$G$29=B51,A51,)","v":0}]
[{"$f":"A51+(1/4)","v":17.5},25,{"$f":"IF(+'DOMESTIC DEMAND'!$G$29=B52,A52,)","v":0}]
[{"$f":"A52+(1/4)","v":17.75},25.5,{"$f":"IF(+'DOMESTIC DEMAND'!$G$29=B53,A53,)","v":0}]
[18,26,{"$f":"IF(+'DOMESTIC DEMAND'!$G$29=B54,A54,)","v":0}]
[{"$f":"A54+(1/4)","v":18.25},26.5,{"$f":"IF(+'DOMESTIC DEMAND'!$G$29=B55,A55,)","v":0}]
[{"$f":"A55+(1/4)","v":18.5},27,{"$f":"IF(+'DOMESTIC DEMAND'!$G$29=B56,A56,)","v":0}]
[{"$f":"A56+(1/4)","v":18.75},27.5,{"$f":"IF(+'DOMESTIC DEMAND'!$G$29=B57,A57,)","v":0}]
[19,28,{"$f":"IF(+'DOMESTIC DEMAND'!$G$29=B58,A58,)","v":0}]
[{"$f":"A58+(1/4)","v":19.25},28.5,{"$f":"IF(+'DOMESTIC DEMAND'!$G$29=B59,A59,)","v":0}]
[{"$f":"A59+(1/4)","v":19.5},29,{"$f":"IF(+'DOMESTIC DEMAND'!$G$29=B60,A60,)","v":0}]
[{"$f":"A60+(1/4)","v":19.75},29.5,{"$f":"IF(+'DOMESTIC DEMAND'!$G$29=B61,A61,)","v":0}]
[20,30,{"$f":"IF(+'DOMESTIC DEMAND'!$G$29=B62,A62,)","v":0}]
[{"$f":"A62+(1/4)","v":20.25},30.5,{"$f":"IF(+'DOMESTIC DEMAND'!$G$29=B63,A63,)","v":0}]
[{"$f":"A63+(1/4)","v":20.5},31,{"$f":"IF(+'DOMESTIC DEMAND'!$G$29=B64,A64,)","v":0}]
[{"$f":"A64+(1/4)","v":20.75},31.5,{"$f":"IF(+'DOMESTIC DEMAND'!$G$29=B65,A65,)","v":0}]
[21,32,{"$f":"IF(+'DOMESTIC DEMAND'!$G$29=B66,A66,)","v":0}]
[{"$f":"A66+(1/4)","v":21.25},32.5,{"$f":"IF(+'DOMESTIC DEMAND'!$G$29=B67,A67,)","v":0}]
[{"$f":"A67+(1/4)","v":21.5},33,{"$f":"IF(+'DOMESTIC DEMAND'!$G$29=B68,A68,)","v":0}]
[{"$f":"A68+(1/4)","v":21.75},33.5,{"$f":"IF(+'DOMESTIC DEMAND'!$G$29=B69,A69,)","v":0}]
[22,34,{"$f":"IF(+'DOMESTIC DEMAND'!$G$29=B70,A70,)","v":0}]
[{"$f":"A70+(1/4)","v":22.25},34.5,{"$f":"IF(+'DOMESTIC DEMAND'!$G$29=B71,A71,)","v":0}]
[{"$f":"A71+(1/4)","v":22.5},35,{"$f":"IF(+'DOMESTIC DEMAND'!$G$29=B72,A72,)","v":0}]
[{"$f":"A72+(1/4)","v":22.75},35.5,{"$f":"IF(+'DOMESTIC DEMAND'!$G$29=B73,A73,)","v":0}]
[23,36,{"$f":"IF(+'DOMESTIC DEMAND'!$G$29=B74,A74,)","v":0}]
[{"$f":"A74+(1/6)","v":23.166666666666668},36.5,{"$f":"IF(+'DOMESTIC DEMAND'!$G$29=B75,A75,)","v":0}]
[{"$f":"A75+(1/6)","v":23.333333333333336},37,{"$f":"IF(+'DOMESTIC DEMAND'!$G$29=B76,A76,)","v":0}]
[{"$f":"A76+(1/6)","v":23.500000000000004},37.5,{"$f":"IF(+'DOMESTIC DEMAND'!$G$29=B77,A77,)","v":0}]
[{"$f":"A77+(1/6)","v":23.666666666666671},38,{"$f":"IF(+'DOMESTIC DEMAND'!$G$29=B78,A78,)","v":0}]
[{"$f":"A78+(1/6)","v":23.833333333333339},38.5,{"$f":"IF(+'DOMESTIC DEMAND'!$G$29=B79,A79,)","v":0}]
[24,39,{"$f":"IF(+'DOMESTIC DEMAND'!$G$29=B80,A80,)","v":0}]
[{"$f":"A80+(1/6)","v":24.166666666666668},39.5,{"$f":"IF(+'DOMESTIC DEMAND'!$G$29=B81,A81,)","v":0}]
[{"$f":"A81+(1/6)","v":24.333333333333336},40,{"$f":"IF(+'DOMESTIC DEMAND'!$G$29=B82,A82,)","v":0}]
[{"$f":"A82+(1/6)","v":24.500000000000004},40.5,{"$f":"IF(+'DOMESTIC DEMAND'!$G$29=B83,A83,)","v":0}]
[{"$f":"A83+(1/6)","v":24.666666666666671},41,{"$f":"IF(+'DOMESTIC DEMAND'!$G$29=B84,A84,)","v":0}]
[{"$f":"A84+(1/6)","v":24.833333333333339},41.5,{"$f":"IF(+'DOMESTIC DEMAND'!$G$29=B85,A85,)","v":0}]
[25,42,{"$f":"IF(+'DOMESTIC DEMAND'!$G$29=B86,A86,)","v":0}]
[{"$f":"A86+(1/4)","v":25.25},42.5,{"$f":"IF(+'DOMESTIC DEMAND'!$G$29=B87,A87,)","v":0}]
[{"$f":"A87+(1/4)","v":25.5},43,{"$f":"IF(+'DOMESTIC DEMAND'!$G$29=B88,A88,)","v":0}]
[{"$f":"A88+(1/4)","v":25.75},43.5,{"$f":"IF(+'DOMESTIC DEMAND'!$G$29=B89,A89,)","v":0}]
[26,44,{"$f":"IF(+'DOMESTIC DEMAND'!$G$29=B90,A90,)","v":0}]
[{"$f":"A90+(1/4)","v":26.25},44.5,{"$f":"IF(+'DOMESTIC DEMAND'!$G$29=B91,A91,)","v":0}]
[{"$f":"A91+(1/4)","v":26.5},45,{"$f":"IF(+'DOMESTIC DEMAND'!$G$29=B92,A92,)","v":0}]
[{"$f":"A92+(1/4)","v":26.75},45.5,{"$f":"IF(+'DOMESTIC DEMAND'!$G$29=B93,A93,)","v":0}]
[27,46,{"$f":"IF(+'DOMESTIC DEMAND'!$G$29=B94,A94,)","v":0}]
[{"$f":"A94+(1/6)","v":27.166666666666668},46.5,{"$f":"IF(+'DOMESTIC DEMAND'!$G$29=B95,A95,)","v":0}]
[{"$f":"A95+(1/6)","v":27.333333333333336},47,{"$f":"IF(+'DOMESTIC DEMAND'!$G$29=B96,A96,)","v":0}]
[{"$f":"A96+(1/6)","v":27.500000000000004},47.5,{"$f":"IF(+'DOMESTIC DEMAND'!$G$29=B97,A97,)","v":0}]
[{"$f":"A97+(1/6)","v":27.666666666666671},48,{"$f":"IF(+'DOMESTIC DEMAND'!$G$29=B98,A98,)","v":0}]
[{"$f":"A98+(1/6)","v":27.833333333333339},48.5,{"$f":"IF(+'DOMESTIC DEMAND'!$G$29=B99,A99,)","v":0}]
[28,49,{"$f":"IF(+'DOMESTIC DEMAND'!$G$29=B100,A100,)","v":0}]
[{"$f":"A100+(1/4)","v":28.25},49.5,{"$f":"IF(+'DOMESTIC DEMAND'!$G$29=B101,A101,)","v":0}]
[{"$f":"A101+(1/4)","v":28.5},50,{"$f":"IF(+'DOMESTIC DEMAND'!$G$29=B102,A102,)","v":0}]
[{"$f":"A102+(1/4)","v":28.75},50.5,{"$f":"IF(+'DOMESTIC DEMAND'!$G$29=B103,A103,)","v":0}]
[29,51,{"$f":"IF(+'DOMESTIC DEMAND'!$G$29=B104,A104,)","v":0}]
[{"$f":"A104+(1/6)","v":29.166666666666668},51.5,{"$f":"IF(+'DOMESTIC DEMAND'!$G$29=B105,A105,)","v":0}]
[29.333333333333336,52,{"$f":"IF(+'DOMESTIC DEMAND'!$G$29=B106,A106,)","v":0}]
[29.500000000000004,52.5,{"$f":"IF(+'DOMESTIC DEMAND'!$G$29=B107,A107,)","v":0}]
[29.666666666666671,53,{"$f":"IF(+'DOMESTIC DEMAND'!$G$29=B108,A108,)","v":0}]
[29.833333333333339,53.5,{"$f":"IF(+'DOMESTIC DEMAND'!$G$29=B109,A109,)","v":0}]
[30.000000000000007,54,{"$f":"IF(+'DOMESTIC DEMAND'!$G$29=B110,A110,)","v":0}]
[{"$f":"A110+(1/4)","v":30.250000000000007},54.5,{"$f":"IF(+'DOMESTIC DEMAND'!$G$29=B111,A111,)","v":0}]
[{"$f":"A111+(1/4)","v":30.500000000000007},55,{"$f":"IF(+'DOMESTIC DEMAND'!$G$29=B112,A112,)","v":0}]
[{"$f":"A112+(1/4)","v":30.750000000000007},55.5,{"$f":"IF(+'DOMESTIC DEMAND'!$G$29=B113,A113,)","v":0}]
[31,56,{"$f":"IF(+'DOMESTIC DEMAND'!$G$29=B114,A114,)","v":0}]
[{"$f":"A114+(1/4)","v":31.25},56.5,{"$f":"IF(+'DOMESTIC DEMAND'!$G$29=B115,A115,)","v":0}]
[{"$f":"A115+(1/4)","v":31.5},57,{"$f":"IF(+'DOMESTIC DEMAND'!$G$29=B116,A116,)","v":0}]
[{"$f":"A116+(1/4)","v":31.75},57.5,{"$f":"IF(+'DOMESTIC DEMAND'!$G$29=B117,A117,)","v":0}]
[32,58,{"$f":"IF(+'DOMESTIC DEMAND'!$G$29=B118,A118,)","v":0}]
[{"$f":"A118+(1/4)","v":32.25},58.5,{"$f":"IF(+'DOMESTIC DEMAND'!$G$29=B119,A119,)","v":0}]
[{"$f":"A119+(1/4)","v":32.5},59,{"$f":"IF(+'DOMESTIC DEMAND'!$G$29=B120,A120,)","v":0}]
[{"$f":"A120+(1/4)","v":32.75},59.5,{"$f":"IF(+'DOMESTIC DEMAND'!$G$29=B121,A121,)","v":0}]
[33,60,{"$f":"IF(+'DOMESTIC DEMAND'!$G$29=B122,A122,)","v":0}]
[{"$f":"A122+(1/6)","v":33.166666666666664},60.5,{"$f":"IF(+'DOMESTIC DEMAND'!$G$29=B123,A123,)","v":0}]
[{"$f":"A123+(1/6)","v":33.333333333333329},61,{"$f":"IF(+'DOMESTIC DEMAND'!$G$29=B124,A124,)","v":0}]
[{"$f":"A124+(1/6)","v":33.499999999999993},61.5,{"$f":"IF(+'DOMESTIC DEMAND'!$G$29=B125,A125,)","v":0}]
[{"$f":"A125+(1/6)","v":33.666666666666657},62,{"$f":"IF(+'DOMESTIC DEMAND'!$G$29=B126,A126,)","v":0}]
[{"$f":"A126+(1/6)","v":33.833333333333321},62.5,{"$f":"IF(+'DOMESTIC DEMAND'!$G$29=B127,A127,)","v":0}]
[34,63,{"$f":"IF(+'DOMESTIC DEMAND'!$G$29=B128,A128,)","v":0}]
[{"$f":"A128+(1/6)","v":34.166666666666664},63.5,{"$f":"IF(+'DOMESTIC DEMAND'!$G$29=B129,A129,)","v":0}]
[{"$f":"A129+(1/6)","v":34.333333333333329},64,{"$f":"IF(+'DOMESTIC DEMAND'!$G$29=B130,A130,)","v":0}]
[{"$f":"A130+(1/6)","v":34.499999999999993},64.5,{"$f":"IF(+'DOMESTIC DEMAND'!$G$29=B131,A131,)","v":0}]
[{"$f":"A131+(1/6)","v":34.666666666666657},65,{"$f":"IF(+'DOMESTIC DEMAND'!$G$29=B132,A132,)","v":0}]
[{"$f":"A132+(1/6)","v":34.833333333333321},65.5,{"$f":"IF(+'DOMESTIC DEMAND'!$G$29=B133,A133,)","v":0}]
[35,66,{"$f":"IF(+'DOMESTIC DEMAND'!$G$29=B134,A134,)","v":0}]
[{"$f":"A134+(1/6)","v":35.166666666666664},66.5,{"$f":"IF(+'DOMESTIC DEMAND'!$G$29=B135,A135,)","v":0}]
[{"$f":"A135+(1/6)","v":35.333333333333329},67,{"$f":"IF(+'DOMESTIC DEMAND'!$G$29=B136,A136,)","v":0}]
[{"$f":"A136+(1/6)","v":35.499999999999993},67.5,{"$f":"IF(+'DOMESTIC DEMAND'!$G$29=B137,A137,)","v":0}]
[{"$f":"A137+(1/6)","v":35.666666666666657},68,{"$f":"IF(+'DOMESTIC DEMAND'!$G$29=B138,A138,)","v":0}]
[{"$f":"A138+(1/6)","v":35.833333333333321},68.5,{"$f":"IF(+'DOMESTIC DEMAND'!$G$29=B139,A139,)","v":0}]
[36,69,{"$f":"IF(+'DOMESTIC DEMAND'!$G$29=B140,A140,)","v":0}]
[{"$f":"A140+(1/10)","v":36.1},69.5,{"$f":"IF(+'DOMESTIC DEMAND'!$G$29=B141,A141,)","v":0}]
[36.200000000000003,70,{"$f":"IF(+'DOMESTIC DEMAND'!$G$29=B142,A142,)","v":0}]
[36.300000000000004,70.5,{"$f":"IF(+'DOMESTIC DEMAND'!$G$29=B143,A143,)","v":0}]
[36.400000000000006,71,{"$f":"IF(+'DOMESTIC DEMAND'!$G$29=B144,A144,)","v":0}]
[36.500000000000007,71.5,{"$f":"IF(+'DOMESTIC DEMAND'!$G$29=B145,A145,)","v":0}]
[36.600000000000009,72,{"$f":"IF(+'DOMESTIC DEMAND'!$G$29=B146,A146,)","v":0}]
[36.70000000000001,72.5,{"$f":"IF(+'DOMESTIC DEMAND'!$G$29=B147,A147,)","v":0}]
[36.800000000000011,73,{"$f":"IF(+'DOMESTIC DEMAND'!$G$29=B148,A148,)","v":0}]
[36.900000000000013,73.5,{"$f":"IF(+'DOMESTIC DEMAND'!$G$29=B149,A149,)","v":0}]
[37,74,{"$f":"IF(+'DOMESTIC DEMAND'!$G$29=B150,A150,)","v":0}]
[{"$f":"A150+(1/8)","v":37.125},74.5,{"$f":"IF(+'DOMESTIC DEMAND'!$G$29=B151,A151,)","v":0}]
[37.25,75,{"$f":"IF(+'DOMESTIC DEMAND'!$G$29=B152,A152,)","v":0}]
[37.375,75.5,{"$f":"IF(+'DOMESTIC DEMAND'!$G$29=B153,A153,)","v":0}]
[37.5,76,{"$f":"IF(+'DOMESTIC DEMAND'!$G$29=B154,A154,)","v":0}]
[37.625,76.5,{"$f":"IF(+'DOMESTIC DEMAND'!$G$29=B155,A155,)","v":0}]
[37.75,77,{"$f":"IF(+'DOMESTIC DEMAND'!$G$29=B156,A156,)","v":0}]
[37.875,77.5,{"$f":"IF(+'DOMESTIC DEMAND'!$G$29=B157,A157,)","v":0}]
[38,78,{"$f":"IF(+'DOMESTIC DEMAND'!$G$29=B158,A158,)","v":0}]
[{"$f":"A158+(1/10)","v":38.1},78.5,{"$f":"IF(+'DOMESTIC DEMAND'!$G$29=B159,A159,)","v":0}]
[38.200000000000003,79,{"$f":"IF(+'DOMESTIC DEMAND'!$G$29=B160,A160,)","v":0}]
[38.300000000000004,79.5,{"$f":"IF(+'DOMESTIC DEMAND'!$G$29=B161,A161,)","v":0}]
[38.400000000000006,80,{"$f":"IF(+'DOMESTIC DEMAND'!$G$29=B162,A162,)","v":0}]
[38.500000000000007,80.5,{"$f":"IF(+'DOMESTIC DEMAND'!$G$29=B163,A163,)","v":0}]
[38.600000000000009,81,{"$f":"IF(+'DOMESTIC DEMAND'!$G$29=B164,A164,)","v":0}]
[38.70000000000001,81.5,{"$f":"IF(+'DOMESTIC DEMAND'!$G$29=B165,A165,)","v":0}]
[38.800000000000011,82,{"$f":"IF(+'DOMESTIC DEMAND'!$G$29=B166,A166,)","v":0}]
[38.900000000000013,82.5,{"$f":"IF(+'DOMESTIC DEMAND'!$G$29=B167,A167,)","v":0}]
[39,83,{"$f":"IF(+'DOMESTIC DEMAND'!$G$29=B168,A168,)","v":0}]
[{"$f":"A168+(1/6)","v":39.166666666666664},83.5,{"$f":"IF(+'DOMESTIC DEMAND'!$G$29=B169,A169,)","v":0}]
[{"$f":"A169+(1/6)","v":39.333333333333329},84,{"$f":"IF(+'DOMESTIC DEMAND'!$G$29=B170,A170,)","v":0}]
[{"$f":"A170+(1/6)","v":39.499999999999993},84.5,{"$f":"IF(+'DOMESTIC DEMAND'!$G$29=B171,A171,)","v":0}]
[{"$f":"A171+(1/6)","v":39.666666666666657},85,{"$f":"IF(+'DOMESTIC DEMAND'!$G$29=B172,A172,)","v":0}]
[{"$f":"A172+(1/6)","v":39.833333333333321},85.5,{"$f":"IF(+'DOMESTIC DEMAND'!$G$29=B173,A173,)","v":0}]
[40,86,{"$f":"IF(+'DOMESTIC DEMAND'!$G$29=B174,A174,)","v":0}]
[{"$f":"A174+(1/8)","v":40.125},86.5,{"$f":"IF(+'DOMESTIC DEMAND'!$G$29=B175,A175,)","v":0}]
[40.25,87,{"$f":"IF(+'DOMESTIC DEMAND'!$G$29=B176,A176,)","v":0}]
[40.375,87.5,{"$f":"IF(+'DOMESTIC DEMAND'!$G$29=B177,A177,)","v":0}]
[40.5,88,{"$f":"IF(+'DOMESTIC DEMAND'!$G$29=B178,A178,)","v":0}]
[40.625,88.5,{"$f":"IF(+'DOMESTIC DEMAND'!$G$29=B179,A179,)","v":0}]
[40.75,89,{"$f":"IF(+'DOMESTIC DEMAND'!$G$29=B180,A180,)","v":0}]
[40.875,89.5,{"$f":"IF(+'DOMESTIC DEMAND'!$G$29=B181,A181,)","v":0}]
[41,90,{"$f":"IF(+'DOMESTIC DEMAND'!$G$29=B182,A182,)","v":0}]
[{"$f":"A182+(1/10)","v":41.1},90.5,{"$f":"IF(+'DOMESTIC DEMAND'!$G$29=B183,A183,)","v":0}]
[41.2,91,{"$f":"IF(+'DOMESTIC DEMAND'!$G$29=B184,A184,)","v":0}]
[41.300000000000004,91.5,{"$f":"IF(+'DOMESTIC DEMAND'!$G$29=B185,A185,)","v":0}]
[41.400000000000006,92,{"$f":"IF(+'DOMESTIC DEMAND'!$G$29=B186,A186,)","v":0}]
[41.500000000000007,92.5,{"$f":"IF(+'DOMESTIC DEMAND'!$G$29=B187,A187,)","v":0}]
[41.600000000000009,93,{"$f":"IF(+'DOMESTIC DEMAND'!$G$29=B188,A188,)","v":0}]
[41.70000000000001,93.5,{"$f":"IF(+'DOMESTIC DEMAND'!$G$29=B189,A189,)","v":0}]
[41.800000000000011,94,{"$f":"IF(+'DOMESTIC DEMAND'!$G$29=B190,A190,)","v":0}]
[41.900000000000013,94.5,{"$f":"IF(+'DOMESTIC DEMAND'!$G$29=B191,A191,)","v":0}]
[42,95,{"$f":"IF(+'DOMESTIC DEMAND'!$G$29=B192,A192,)","v":0}]
[{"$f":"A192+(1/8)","v":42.125},95.5,{"$f":"IF(+'DOMESTIC DEMAND'!$G$29=B193,A193,)","v":0}]
[42.25,96,{"$f":"IF(+'DOMESTIC DEMAND'!$G$29=B194,A194,)","v":0}]
[42.375,96.5,{"$f":"IF(+'DOMESTIC DEMAND'!$G$29=B195,A195,)","v":0}]
[42.5,97,{"$f":"IF(+'DOMESTIC DEMAND'!$G$29=B196,A196,)","v":0}]
[42.625,97.5,{"$f":"IF(+'DOMESTIC DEMAND'!$G$29=B197,A197,)","v":0}]
[42.75,98,{"$f":"IF(+'DOMESTIC DEMAND'!$G$29=B198,A198,)","v":0}]
[42.875,98.5,{"$f":"IF(+'DOMESTIC DEMAND'!$G$29=B199,A199,)","v":0}]
[43,99,{"$f":"IF(+'DOMESTIC DEMAND'!$G$29=B200,A200,)","v":0}]
[{"$f":"A200+(1/8)","v":43.125},99.5,{"$f":"IF(+'DOMESTIC DEMAND'!$G$29=B201,A201,)","v":0}]
[43.25,100,{"$f":"IF(+'DOMESTIC DEMAND'!$G$29=B202,A202,)","v":0}]
[43.375,100.5,{"$f":"IF(+'DOMESTIC DEMAND'!$G$29=B203,A203,)","v":0}]
[43.5,101,{"$f":"IF(+'DOMESTIC DEMAND'!$G$29=B204,A204,)","v":0}]
[43.625,101.5,{"$f":"IF(+'DOMESTIC DEMAND'!$G$29=B205,A205,)","v":0}]
[43.75,102,{"$f":"IF(+'DOMESTIC DEMAND'!$G$29=B206,A206,)","v":0}]
[43.875,102.5,{"$f":"IF(+'DOMESTIC DEMAND'!$G$29=B207,A207,)","v":0}]
[44,103,{"$f":"IF(+'DOMESTIC DEMAND'!$G$29=B208,A208,)","v":0}]
[{"$f":"A208+(1/8)","v":44.125},103.5,{"$f":"IF(+'DOMESTIC DEMAND'!$G$29=B209,A209,)","v":0}]
[44.25,104,{"$f":"IF(+'DOMESTIC DEMAND'!$G$29=B210,A210,)","v":0}]
[44.375,104.5,{"$f":"IF(+'DOMESTIC DEMAND'!$G$29=B211,A211,)","v":0}]
[44.5,105,{"$f":"IF(+'DOMESTIC DEMAND'!$G$29=B212,A212,)","v":0}]
[44.625,105.5,{"$f":"IF(+'DOMESTIC DEMAND'!$G$29=B213,A213,)","v":0}]
[44.75,106,{"$f":"IF(+'DOMESTIC DEMAND'!$G$29=B214,A214,)","v":0}]
[44.875,106.5,{"$f":"IF(+'DOMESTIC DEMAND'!$G$29=B215,A215,)","v":0}]
[45,107,{"$f":"IF(+'DOMESTIC DEMAND'!$G$29=B216,A216,)","v":0}]
[{"$f":"A216+(1/8)","v":45.125},107.5,{"$f":"IF(+'DOMESTIC DEMAND'!$G$29=B217,A217,)","v":0}]
[45.25,108,{"$f":"IF(+'DOMESTIC DEMAND'!$G$29=B218,A218,)","v":0}]
[45.375,108.5,{"$f":"IF(+'DOMESTIC DEMAND'!$G$29=B219,A219,)","v":0}]
[45.5,109,{"$f":"IF(+'DOMESTIC DEMAND'!$G$29=B220,A220,)","v":0}]
[45.625,109.5,{"$f":"IF(+'DOMESTIC DEMAND'!$G$29=B221,A221,)","v":0}]
[45.75,110,{"$f":"IF(+'DOMESTIC DEMAND'!$G$29=B222,A222,)","v":0}]
[45.875,110.5,{"$f":"IF(+'DOMESTIC DEMAND'!$G$29=B223,A223,)","v":0}]
[46,111,{"$f":"IF(+'DOMESTIC DEMAND'!$G$29=B224,A224,)","v":0}]
[{"$f":"A224+(1/8)","v":46.125},111.5,{"$f":"IF(+'DOMESTIC DEMAND'!$G$29=B225,A225,)","v":0}]
[46.25,112,{"$f":"IF(+'DOMESTIC DEMAND'!$G$29=B226,A226,)","v":0}]
[46.375,112.5,{"$f":"IF(+'DOMESTIC DEMAND'!$G$29=B227,A227,)","v":0}]
[46.5,113,{"$f":"IF(+'DOMESTIC DEMAND'!$G$29=B228,A228,)","v":0}]
[46.625,113.5,{"$f":"IF(+'DOMESTIC DEMAND'!$G$29=B229,A229,)","v":0}]
[46.75,114,{"$f":"IF(+'DOMESTIC DEMAND'!$G$29=B230,A230,)","v":0}]
[46.875,114.5,{"$f":"IF(+'DOMESTIC DEMAND'!$G$29=B231,A231,)","v":0}]
[47,115,{"$f":"IF(+'DOMESTIC DEMAND'!$G$29=B232,A232,)","v":0}]
[{"$f":"A232+(1/8)","v":47.125},115.5,{"$f":"IF(+'DOMESTIC DEMAND'!$G$29=B233,A233,)","v":0}]
[47.25,116,{"$f":"IF(+'DOMESTIC DEMAND'!$G$29=B234,A234,)","v":0}]
[47.375,116.5,{"$f":"IF(+'DOMESTIC DEMAND'!$G$29=B235,A235,)","v":0}]
[47.5,117,{"$f":"IF(+'DOMESTIC DEMAND'!$G$29=B236,A236,)","v":0}]
[47.625,117.5,{"$f":"IF(+'DOMESTIC DEMAND'!$G$29=B237,A237,)","v":0}]
[47.75,118,{"$f":"IF(+'DOMESTIC DEMAND'!$G$29=B238,A238,)","v":0}]
[47.875,118.5,{"$f":"IF(+'DOMESTIC DEMAND'!$G$29=B239,A239,)","v":0}]
[48,119,{"$f":"IF(+'DOMESTIC DEMAND'!$G$29=B240,A240,)","v":0}]
[{"$f":"A240+(1/8)","v":48.125},119.5,{"$f":"IF(+'DOMESTIC DEMAND'!$G$29=B241,A241,)","v":0}]
[48.25,120,{"$f":"IF(+'DOMESTIC DEMAND'!$G$29=B242,A242,)","v":0}]
[48.375,120.5,{"$f":"IF(+'DOMESTIC DEMAND'!$G$29=B243,A243,)","v":0}]
[48.5,121,{"$f":"IF(+'DOMESTIC DEMAND'!$G$29=B244,A244,)","v":0}]
[48.625,121.5,{"$f":"IF(+'DOMESTIC DEMAND'!$G$29=B245,A245,)","v":0}]
[48.75,122,{"$f":"IF(+'DOMESTIC DEMAND'!$G$29=B246,A246,)","v":0}]
[48.875,122.5,{"$f":"IF(+'DOMESTIC DEMAND'!$G$29=B247,A247,)","v":0}]
[49,123,{"$f":"IF(+'DOMESTIC DEMAND'!$G$29=B248,A248,)","v":0}]
[{"$f":"A248+(1/8)","v":49.125},123.5,{"$f":"IF(+'DOMESTIC DEMAND'!$G$29=B249,A249,)","v":0}]
[49.25,124,{"$f":"IF(+'DOMESTIC DEMAND'!$G$29=B250,A250,)","v":0}]
[49.375,124.5,{"$f":"IF(+'DOMESTIC DEMAND'!$G$29=B251,A251,)","v":0}]
[49.5,125,{"$f":"IF(+'DOMESTIC DEMAND'!$G$29=B252,A252,)","v":0}]
[49.625,125.5,{"$f":"IF(+'DOMESTIC DEMAND'!$G$29=B253,A253,)","v":0}]
[49.75,126,{"$f":"IF(+'DOMESTIC DEMAND'!$G$29=B254,A254,)","v":0}]
[49.875,126.5,{"$f":"IF(+'DOMESTIC DEMAND'!$G$29=B255,A255,)","v":0}]
[50,127,{"$f":"IF(+'DOMESTIC DEMAND'!$G$29=B256,A256,)","v":0}]
[{"$f":"A256+ (10/43)","v":50.232558139534881},128,{"$f":"IF(+'DOMESTIC DEMAND'!$G$29=B257,A257,)","v":0}]
[{"$f":"A257+ (10/43)","v":50.465116279069761},129,{"$f":"IF(+'DOMESTIC DEMAND'!$G$29=B258,A258,)","v":0}]
[50.697674418604642,130,{"$f":"IF(+'DOMESTIC DEMAND'!$G$29=B259,A259,)","v":0}]
[50.930232558139522,131,{"$f":"IF(+'DOMESTIC DEMAND'!$G$29=B260,A260,)","v":0}]
[51.162790697674403,132,{"$f":"IF(+'DOMESTIC DEMAND'!$G$29=B261,A261,)","v":0}]
[51.395348837209283,133,{"$f":"IF(+'DOMESTIC DEMAND'!$G$29=B262,A262,)","v":0}]
[51.627906976744164,134,{"$f":"IF(+'DOMESTIC DEMAND'!$G$29=B263,A263,)","v":0}]
[51.860465116279045,135,{"$f":"IF(+'DOMESTIC DEMAND'!$G$29=B264,A264,)","v":0}]
[52.093023255813925,136,{"$f":"IF(+'DOMESTIC DEMAND'!$G$29=B265,A265,)","v":0}]
[52.325581395348806,137,{"$f":"IF(+'DOMESTIC DEMAND'!$G$29=B266,A266,)","v":0}]
[52.558139534883686,138,{"$f":"IF(+'DOMESTIC DEMAND'!$G$29=B267,A267,)","v":0}]
[52.790697674418567,139,{"$f":"IF(+'DOMESTIC DEMAND'!$G$29=B268,A268,)","v":0}]
[53.023255813953448,140,{"$f":"IF(+'DOMESTIC DEMAND'!$G$29=B269,A269,)","v":0}]
[53.255813953488328,141,{"$f":"IF(+'DOMESTIC DEMAND'!$G$29=B270,A270,)","v":0}]
[53.488372093023209,142,{"$f":"IF(+'DOMESTIC DEMAND'!$G$29=B271,A271,)","v":0}]
[53.720930232558089,143,{"$f":"IF(+'DOMESTIC DEMAND'!$G$29=B272,A272,)","v":0}]
[53.95348837209297,144,{"$f":"IF(+'DOMESTIC DEMAND'!$G$29=B273,A273,)","v":0}]
[54.18604651162785,145,{"$f":"IF(+'DOMESTIC DEMAND'!$G$29=B274,A274,)","v":0}]
[54.418604651162731,146,{"$f":"IF(+'DOMESTIC DEMAND'!$G$29=B275,A275,)","v":0}]
[54.651162790697612,147,{"$f":"IF(+'DOMESTIC DEMAND'!$G$29=B276,A276,)","v":0}]
[54.883720930232492,148,{"$f":"IF(+'DOMESTIC DEMAND'!$G$29=B277,A277,)","v":0}]
[55.116279069767373,149,{"$f":"IF(+'DOMESTIC DEMAND'!$G$29=B278,A278,)","v":0}]
[55.348837209302253,150,{"$f":"IF(+'DOMESTIC DEMAND'!$G$29=B279,A279,)","v":0}]
[55.581395348837134,151,{"$f":"IF(+'DOMESTIC DEMAND'!$G$29=B280,A280,)","v":0}]
[55.813953488372015,152,{"$f":"IF(+'DOMESTIC DEMAND'!$G$29=B281,A281,)","v":0}]
[56.046511627906895,153,{"$f":"IF(+'DOMESTIC DEMAND'!$G$29=B282,A282,)","v":0}]
[56.279069767441776,154,{"$f":"IF(+'DOMESTIC DEMAND'!$G$29=B283,A283,)","v":0}]
[56.511627906976656,155,{"$f":"IF(+'DOMESTIC DEMAND'!$G$29=B284,A284,)","v":0}]
[56.744186046511537,156,{"$f":"IF(+'DOMESTIC DEMAND'!$G$29=B285,A285,)","v":0}]
[56.976744186046417,157,{"$f":"IF(+'DOMESTIC DEMAND'!$G$29=B286,A286,)","v":0}]
[57.209302325581298,158,{"$f":"IF(+'DOMESTIC DEMAND'!$G$29=B287,A287,)","v":0}]
[57.441860465116179,159,{"$f":"IF(+'DOMESTIC DEMAND'!$G$29=B288,A288,)","v":0}]
[57.674418604651059,160,{"$f":"IF(+'DOMESTIC DEMAND'!$G$29=B289,A289,)","v":0}]
[57.90697674418594,161,{"$f":"IF(+'DOMESTIC DEMAND'!$G$29=B290,A290,)","v":0}]
[58.13953488372082,162,{"$f":"IF(+'DOMESTIC DEMAND'!$G$29=B291,A291,)","v":0}]
[58.372093023255701,163,{"$f":"IF(+'DOMESTIC DEMAND'!$G$29=B292,A292,)","v":0}]
[58.604651162790582,164,{"$f":"IF(+'DOMESTIC DEMAND'!$G$29=B293,A293,)","v":0}]
[58.837209302325462,165,{"$f":"IF(+'DOMESTIC DEMAND'!$G$29=B294,A294,)","v":0}]
[59.069767441860343,166,{"$f":"IF(+'DOMESTIC DEMAND'!$G$29=B295,A295,)","v":0}]
[59.302325581395223,167,{"$f":"IF(+'DOMESTIC DEMAND'!$G$29=B296,A296,)","v":0}]
[59.534883720930104,168,{"$f":"IF(+'DOMESTIC DEMAND'!$G$29=B297,A297,)","v":0}]
[59.767441860464984,169,{"$f":"IF(+'DOMESTIC DEMAND'!$G$29=B298,A298,)","v":0}]
[59.999999999999865,170,{"$f":"IF(+'DOMESTIC DEMAND'!$G$29=B299,A299,)","v":0}]
[{"$f":"A299+(10/50)","v":60.199999999999868},{"$f":"B299+1","v":171},{"$f":"IF(+'DOMESTIC DEMAND'!$G$29=B300,A300,)","v":0}]
[{"$f":"A300+(10/50)","v":60.399999999999871},{"$f":"B300+1","v":172},{"$f":"IF(+'DOMESTIC DEMAND'!$G$29=B301,A301,)","v":0}]
[60.599999999999874,173,{"$f":"IF(+'DOMESTIC DEMAND'!$G$29=B302,A302,)","v":0}]
[60.799999999999876,174,{"$f":"IF(+'DOMESTIC DEMAND'!$G$29=B303,A303,)","v":0}]
[60.999999999999879,175,{"$f":"IF(+'DOMESTIC DEMAND'!$G$29=B304,A304,)","v":0}]
[61.199999999999882,176,{"$f":"IF(+'DOMESTIC DEMAND'!$G$29=B305,A305,)","v":0}]
[61.399999999999885,177,{"$f":"IF(+'DOMESTIC DEMAND'!$G$29=B306,A306,)","v":0}]
[61.599999999999888,178,{"$f":"IF(+'DOMESTIC DEMAND'!$G$29=B307,A307,)","v":0}]
[61.799999999999891,179,{"$f":"IF(+'DOMESTIC DEMAND'!$G$29=B308,A308,)","v":0}]
[60,180,{"$f":"IF(+'DOMESTIC DEMAND'!$G$29=B309,A309,)","v":0}]
[{"$f":"A309+(5/20)","v":60.25},181,{"$f":"IF(+'DOMESTIC DEMAND'!$G$29=B310,A310,)","v":0}]
[{"$f":"A310+(5/20)","v":60.5},182,{"$f":"IF(+'DOMESTIC DEMAND'!$G$29=B311,A311,)","v":0}]
[60.75,183,{"$f":"IF(+'DOMESTIC DEMAND'!$G$29=B312,A312,)","v":0}]
[61,184,{"$f":"IF(+'DOMESTIC DEMAND'!$G$29=B313,A313,)","v":0}]
[61.25,185,{"$f":"IF(+'DOMESTIC DEMAND'!$G$29=B314,A314,)","v":0}]
[61.5,186,{"$f":"IF(+'DOMESTIC DEMAND'!$G$29=B315,A315,)","v":0}]
[61.75,187,{"$f":"IF(+'DOMESTIC DEMAND'!$G$29=B316,A316,)","v":0}]
[62,188,{"$f":"IF(+'DOMESTIC DEMAND'!$G$29=B317,A317,)","v":0}]
[62.25,189,{"$f":"IF(+'DOMESTIC DEMAND'!$G$29=B318,A318,)","v":0}]
[62.5,190,{"$f":"IF(+'DOMESTIC DEMAND'!$G$29=B319,A319,)","v":0}]
[62.75,191,{"$f":"IF(+'DOMESTIC DEMAND'!$G$29=B320,A320,)","v":0}]
[63,192,{"$f":"IF(+'DOMESTIC DEMAND'!$G$29=B321,A321,)","v":0}]
[63.25,193,{"$f":"IF(+'DOMESTIC DEMAND'!$G$29=B322,A322,)","v":0}]
[63.5,194,{"$f":"IF(+'DOMESTIC DEMAND'!$G$29=B323,A323,)","v":0}]
[63.75,195,{"$f":"IF(+'DOMESTIC DEMAND'!$G$29=B324,A324,)","v":0}]
[64,196,{"$f":"IF(+'DOMESTIC DEMAND'!$G$29=B325,A325,)","v":0}]
[64.25,197,{"$f":"IF(+'DOMESTIC DEMAND'!$G$29=B326,A326,)","v":0}]
[64.5,198,{"$f":"IF(+'DOMESTIC DEMAND'!$G$29=B327,A327,)","v":0}]
[64.75,199,{"$f":"IF(+'DOMESTIC DEMAND'!$G$29=B328,A328,)","v":0}]
[65,200,{"$f":"IF(+'DOMESTIC DEMAND'!$G$29=B329,A329,)","v":0}]
[{"$f":"A329+(2/20)","v":65.099999999999994},201,{"$f":"IF(+'DOMESTIC DEMAND'!$G$29=B330,A330,)","v":0}]
[{"$f":"A330+(2/20)","v":65.199999999999989},202,{"$f":"IF(+'DOMESTIC DEMAND'!$G$29=B331,A331,)","v":0}]
[65.299999999999983,203,{"$f":"IF(+'DOMESTIC DEMAND'!$G$29=B332,A332,)","v":0}]
[65.399999999999977,204,{"$f":"IF(+'DOMESTIC DEMAND'!$G$29=B333,A333,)","v":0}]
[65.499999999999972,205,{"$f":"IF(+'DOMESTIC DEMAND'!$G$29=B334,A334,)","v":0}]
[65.599999999999966,206,{"$f":"IF(+'DOMESTIC DEMAND'!$G$29=B335,A335,)","v":0}]
[65.69999999999996,207,{"$f":"IF(+'DOMESTIC DEMAND'!$G$29=B336,A336,)","v":0}]
[65.799999999999955,208,{"$f":"IF(+'DOMESTIC DEMAND'!$G$29=B337,A337,)","v":0}]
[65.899999999999949,209,{"$f":"IF(+'DOMESTIC DEMAND'!$G$29=B338,A338,)","v":0}]
[65.999999999999943,210,{"$f":"IF(+'DOMESTIC DEMAND'!$G$29=B339,A339,)","v":0}]
[66.099999999999937,211,{"$f":"IF(+'DOMESTIC DEMAND'!$G$29=B340,A340,)","v":0}]
[66.199999999999932,212,{"$f":"IF(+'DOMESTIC DEMAND'!$G$29=B341,A341,)","v":0}]
[66.299999999999926,213,{"$f":"IF(+'DOMESTIC DEMAND'!$G$29=B342,A342,)","v":0}]
[66.39999999999992,214,{"$f":"IF(+'DOMESTIC DEMAND'!$G$29=B343,A343,)","v":0}]
[66.499999999999915,215,{"$f":"IF(+'DOMESTIC DEMAND'!$G$29=B344,A344,)","v":0}]
[66.599999999999909,216,{"$f":"IF(+'DOMESTIC DEMAND'!$G$29=B345,A345,)","v":0}]
[66.699999999999903,217,{"$f":"IF(+'DOMESTIC DEMAND'!$G$29=B346,A346,)","v":0}]
[66.799999999999898,218,{"$f":"IF(+'DOMESTIC DEMAND'!$G$29=B347,A347,)","v":0}]
[66.899999999999892,219,{"$f":"IF(+'DOMESTIC DEMAND'!$G$29=B348,A348,)","v":0}]
[67,220,{"$f":"IF(+'DOMESTIC DEMAND'!$G$29=B349,A349,)","v":0}]
[{"$f":"A349+(4/20)","v":67.2},{"$f":"B349+1","v":221},{"$f":"IF(+'DOMESTIC DEMAND'!$G$29=B350,A350,)","v":0}]
[{"$f":"A350+(4/20)","v":67.400000000000006},{"$f":"B350+1","v":222},{"$f":"IF(+'DOMESTIC DEMAND'!$G$29=B351,A351,)","v":0}]
[67.600000000000009,223,{"$f":"IF(+'DOMESTIC DEMAND'!$G$29=B352,A352,)","v":0}]
[67.800000000000011,224,{"$f":"IF(+'DOMESTIC DEMAND'!$G$29=B353,A353,)","v":0}]
[68.000000000000014,225,{"$f":"IF(+'DOMESTIC DEMAND'!$G$29=B354,A354,)","v":0}]
[68.200000000000017,226,{"$f":"IF(+'DOMESTIC DEMAND'!$G$29=B355,A355,)","v":0}]
[68.40000000000002,227,{"$f":"IF(+'DOMESTIC DEMAND'!$G$29=B356,A356,)","v":0}]
[68.600000000000023,228,{"$f":"IF(+'DOMESTIC DEMAND'!$G$29=B357,A357,)","v":0}]
[68.800000000000026,229,{"$f":"IF(+'DOMESTIC DEMAND'!$G$29=B358,A358,)","v":0}]
[69.000000000000028,230,{"$f":"IF(+'DOMESTIC DEMAND'!$G$29=B359,A359,)","v":0}]
[69.200000000000031,231,{"$f":"IF(+'DOMESTIC DEMAND'!$G$29=B360,A360,)","v":0}]
[69.400000000000034,232,{"$f":"IF(+'DOMESTIC DEMAND'!$G$29=B361,A361,)","v":0}]
[69.600000000000037,233,{"$f":"IF(+'DOMESTIC DEMAND'!$G$29=B362,A362,)","v":0}]
[69.80000000000004,234,{"$f":"IF(+'DOMESTIC DEMAND'!$G$29=B363,A363,)","v":0}]
[70.000000000000043,235,{"$f":"IF(+'DOMESTIC DEMAND'!$G$29=B364,A364,)","v":0}]
[70.200000000000045,236,{"$f":"IF(+'DOMESTIC DEMAND'!$G$29=B365,A365,)","v":0}]
[70.400000000000048,237,{"$f":"IF(+'DOMESTIC DEMAND'!$G$29=B366,A366,)","v":0}]
[70.600000000000051,238,{"$f":"IF(+'DOMESTIC DEMAND'!$G$29=B367,A367,)","v":0}]
[70.800000000000054,239,{"$f":"IF(+'DOMESTIC DEMAND'!$G$29=B368,A368,)","v":0}]
[71,240,{"$f":"IF(+'DOMESTIC DEMAND'!$G$29=B369,A369,)","v":0}]
[{"$f":"A369+(2/10)","v":71.2},241,{"$f":"IF(+'DOMESTIC DEMAND'!$G$29=B370,A370,)","v":0}]
[{"$f":"A370+(2/10)","v":71.400000000000006},242,{"$f":"IF(+'DOMESTIC DEMAND'!$G$29=B371,A371,)","v":0}]
[71.600000000000009,243,{"$f":"IF(+'DOMESTIC DEMAND'!$G$29=B372,A372,)","v":0}]
[71.800000000000011,244,{"$f":"IF(+'DOMESTIC DEMAND'!$G$29=B373,A373,)","v":0}]
[72.000000000000014,245,{"$f":"IF(+'DOMESTIC DEMAND'!$G$29=B374,A374,)","v":0}]
[72.200000000000017,246,{"$f":"IF(+'DOMESTIC DEMAND'!$G$29=B375,A375,)","v":0}]
[72.40000000000002,247,{"$f":"IF(+'DOMESTIC DEMAND'!$G$29=B376,A376,)","v":0}]
[72.600000000000023,248,{"$f":"IF(+'DOMESTIC DEMAND'!$G$29=B377,A377,)","v":0}]
[72.800000000000026,249,{"$f":"IF(+'DOMESTIC DEMAND'!$G$29=B378,A378,)","v":0}]
[73,250,{"$f":"IF(+'DOMESTIC DEMAND'!$G$29=B379,A379,)","v":0}]